BEGIN:VCALENDAR
VERSION:2.0
PRODID:-//wp-events-plugin.com//5.99912//EN
TZID:Europe/Berlin
X-WR-TIMEZONE:Europe/Berlin
BEGIN:VEVENT
UID:0-507@zoller-gau.albverein.eu
DTSTART;TZID=Europe/Berlin;VALUE=DATE:20260510
DTEND;TZID=Europe/Berlin;VALUE=DATE:20260511
DTSTAMP:20250920T100530Z
URL:https://zoller-gau.albverein.eu/events/jubilaeumswanderung-durch-zolle
 rgu/
SUMMARY:Jubiläumswanderung durch Zollergau
DESCRIPTION:
CATEGORIES:Zoller-Gau
END:VEVENT
BEGIN:VTIMEZONE
TZID:Europe/Berlin
X-LIC-LOCATION:Europe/Berlin
BEGIN:DAYLIGHT
DTSTART:20260329T030000
TZOFFSETFROM:+0100
TZOFFSETTO:+0200
TZNAME:CEST
END:DAYLIGHT
END:VTIMEZONE
END:VCALENDAR