BEGIN:VCALENDAR
VERSION:2.0
PRODID:-//wp-events-plugin.com//5.99912//EN
TZID:Europe/Berlin
X-WR-TIMEZONE:Europe/Berlin
BEGIN:VEVENT
UID:0-506@zoller-gau.albverein.eu
DTSTART;TZID=Europe/Berlin:20260614T100000
DTEND;TZID=Europe/Berlin:20260614T130000
DTSTAMP:20260328T172631Z
URL:https://zoller-gau.albverein.eu/events/hauptversammlung-3/
SUMMARY:Hauptversammlung mit Rahmenprogramm
DESCRIPTION:\n\nDie jährliche Mitgliederversammlung findet dieses Jahr mit
  Rahmenprogramm in Sigmaringendorf statt.\nHerzliche Einladung dazu!\n\n\n
 \n\n\nHauptversammlung um 10:00 Uhr in der Donau-Lauchert-Halle\nTagesordn
 ung:\n\nTOP 1 – Eröffnung und Begrüßung durch das Präsidium\nTOP 2 
 – Grußworte\nTOP 3 – Festrede durch eine Vertretung der Landesregieru
 ng\nTOP 4 – Bericht des Präsidiums\nTOP 5 – Bericht des Hauptjugendwa
 rtes\nTOP 6 – Jahresrechnung 2025 mit Bericht der Rechnungsprüferinnen\
 nTOP 7 – Vorstellung Haushaltsplan 2026\nTOP 8 – Ehrungen\nTOP 9 – E
 inladung zur Hauptversammlung 2027\nTOP 10 – Schlusswort\nTOP 11 – Alb
 vereinslied „So steckt dies Zeichen an den Hut“\n\n\n\n\nRahmenprogram
 m\nin der Donau-Lauchert-Halle\nSamstag\, 13. Juni 2026\n17 Uhr Workshop F
 it fürs Danzfeschd: Danza lerne ond üba\n19:30 Uhr Danzfeschd: Danza\, g
 ugga\, schwäza\, essa ond trenka\n\nSonntag\, 14. Juni 2026\nNach der Hau
 ptversammlung gibt es vor der Halle Stände mit Essen und Trinken und Musi
 k. Im Foyer der Festhalle gibt es Kaffee und Kuchen. Das „Lädle“ ist 
 mit einem Stand vor Ort.\n\n14:00 Uhr Schulwanderwettbewerb in der Halle m
 it Schirmherrin Gerlinde Kretschmann\n\n13:30 Uhr Foyer\n„Kurz gefragt\,
  weit gedacht – Engagement\, das verbindet“\nBei unserer Veranstaltung
  „Kurz gefragt\, weit gedacht“ nehmen wir Sie mit auf eine spannende R
 eise durch unseren Verein. In kurzen Interviews sprechen wir mit Mitgliede
 rn\, Ehrenamtlichen und Verantwortlichen über aktuelle Themen rund um den
  Verein\, das Engagement für Natur und Heimat sowie Aktivitäten für Jun
 g und Alt.\nErfahren Sie aus erster Hand\, welche Ideen\, Projekte und Ges
 chichten unseren Verein lebendig machen\, welche Wege wir gemeinsam gehen 
 und wie Menschen durch ehrenamtliches Engagement verbunden werden. Ob neug
 ierig auf neue Initiativen\, Inspiration für eigenes Engagement oder einf
 ach die Gesichter hinter dem Verein kennenlernen – hier bekommen Sie kur
 ze\, informative und persönliche Einblicke.\n\n\n\nGeführte Wanderungen 
 und Radtouren\n„Treffpunkt Festplatz“ vor der Donau-Lauchert Halle\nSo
 nntag\, 14. Juni 2026\, 9:30 Uhr\n\n 	geführte Tour\, 12 km\, 2\,5 h an d
 ie Zielfinger Baggerseen\n 	geführte historische Tour um Sigmaringendorf\
 , 9 km\, 3 h\n 	Spaziergang zu einer Blumenwiese anlässlich des Tags der 
 Artenvielfalt\n 	Radtour\, 35 km\, Ablach-Donautal\n 	Sternradtour (Infos 
 folgen)\n\n&nbsp\;\n\n&nbsp\;\n\n\nUhrzeit:\n09:30 - 15:30Ort/Ausgangspunk
 t:\nDonau Lauchert Halle\nLaucertbühl 9\nSigmaringendorf\n\n\n
CATEGORIES:Zoller-Gau
END:VEVENT
BEGIN:VTIMEZONE
TZID:Europe/Berlin
X-LIC-LOCATION:Europe/Berlin
BEGIN:DAYLIGHT
DTSTART:20260329T030000
TZOFFSETFROM:+0100
TZOFFSETTO:+0200
TZNAME:CEST
END:DAYLIGHT
END:VTIMEZONE
END:VCALENDAR