BEGIN:VCALENDAR
VERSION:2.0
PRODID:-//wp-events-plugin.com//5.99912//EN
TZID:Europe/Berlin
X-WR-TIMEZONE:Europe/Berlin
BEGIN:VEVENT
UID:0-505@zoller-gau.albverein.eu
DTSTART;TZID=Europe/Berlin;VALUE=DATE:20260801
DTEND;TZID=Europe/Berlin;VALUE=DATE:20260802
DTSTAMP:20260323T092934Z
URL:https://zoller-gau.albverein.eu/events/aktion-irrenberg-5/
SUMMARY:Aktion Irrenberg
DESCRIPTION:\nDie Aktion Irrenberg\nDie traditionelle Landschaftspflege im 
 »Amphitheater« des Irrenbergs bei StreichenundZillhausen (Teilorte von B
 alingen) auf der Westalb ist jedes Mal und bei jedem Wetter ein Erlebnis. 
 Sie findet in der Regel am letzten Samstag vor den Sommerferien statt. Tre
 ffpunkt ist zwischen 8:00 und 9:00 am unteren Hang des Naturschutzgebietes
  (von Streichen her).\n\nAnfahrtsskizzen gibt es hier zum Herunterladen od
 er bei der Geschäftsstelle.\n\nLandwirtschaftliches Gerät\, wie hölzern
 e Rechen und dreizinkige Gabeln\, warten auf die Erntehelfer. Zur gemeinsa
 men Arbeit gehören auch ein kräftiges Vesper und ausreichend Getränke!\
 n\nGenauere Informationen über frühere Aktionen finden Sie auf diesen Se
 iten. Auskunft erteilt auch die Geschäftsstelle\, wo Sie sich vorzugsweis
 e bitte anmelden.\n\nDie nächste Pflegeaktion findet in bewährter Form a
 m Samstag\, den 1.8.2026\, statt. Wir benötigen dringend Heferinnen und H
 elfer! Gerne informiert Sie unsere Geschäftsstelle.\nGeschichte der Aktio
 n\nAnfang der 1970er-Jahre schien das Schicksal der alten Holzwiesen am Ir
 renberg bei Balingen auf der Westalb besiegelt: Das Interesse an einer Nut
 zung der steilen\, für landwirtschaftliche Maschinen schwer zugänglichen
  Irrenberg-Wiesen war von Jahr zu Jahr zurückgegangen\, sie blieben ungem
 äht und verfilzten\, Holzgewächse drängten von den Rändern in das Gebi
 et\, die traditionelle Vielfalt an seltenen Blütenpflanzen drohte zu vers
 chwinden.\n\nIn dieser Situation hatte der damalige Kreisbeauftragte für 
 Naturschutz im Zollernalbkreis\, Oberforstrat Stoffler\, im Frühjahr 1973
  die Idee\, die traditionellen Mähder am Irrenberg\, dessen Naturschutzfl
 ächen mit ihren bedeutenden Pflanzenstandorten zu einem großen Teil im B
 esitz des Schwäbischen Heimatbunds sind\, einmal jährlich in einer groß
 en Gemeinschaftsaktion von Naturschutzverbänden und örtlichen Vereinen z
 u pflegen\, um ihren schutzwürdigen Zustand zu erhalten.
CATEGORIES:Zoller-Gau
END:VEVENT
BEGIN:VTIMEZONE
TZID:Europe/Berlin
X-LIC-LOCATION:Europe/Berlin
BEGIN:DAYLIGHT
DTSTART:20260329T030000
TZOFFSETFROM:+0100
TZOFFSETTO:+0200
TZNAME:CEST
END:DAYLIGHT
END:VTIMEZONE
END:VCALENDAR