BEGIN:VCALENDAR
VERSION:2.0
PRODID:-//wp-events-plugin.com//5.99912//EN
TZID:Europe/Berlin
X-WR-TIMEZONE:Europe/Berlin
BEGIN:VEVENT
UID:0-502@zoller-gau.albverein.eu
DTSTART;TZID=Europe/Berlin;VALUE=DATE:20260927
DTEND;TZID=Europe/Berlin;VALUE=DATE:20260928
DTSTAMP:20250920T095830Z
URL:https://zoller-gau.albverein.eu/events/11-albvereinstag-auf-dem-cannst
 atter-wasen/
SUMMARY:11. Albvereinstag auf dem Cannstatter Wasen
DESCRIPTION:\n\nDer 11. Albvereinstag auf dem Cannstatter Wasen findet am S
 onntag\, den 27. September 2026 statt\, wie die SAV Unterensingen mitteilt
 . An diesem Tag wird im Dinkelackerzelt auf dem Festgelände gefeiert\, un
 d Albvereinsmitglieder erhalten spezielle Verzehrgutscheine. \n\n\n\n\n\n
 \n\n\n\n\n\n\nDetails zur Veranstaltung: \n\n\n\n\n\n\n\n\n\n\n\n\n\n 	Da
 tum: Sonntag\, 27. September 2026.\n 	Veranstaltung: 11. Albvereinstag.\n 
 	Ort: Dinkelackerzelt auf dem Cannstatter Wasen.\n 	Motto des Volksfestes:
  "Landwirtschaft erLEBEN!".\n 	Besonderheit: Mitglieder des Schwäbischen 
 Albvereins können Verzehrgutscheine im Wert von 40\,00 € plus VVS-Ticke
 t erhalten.\n 	Anreise: Die Anreise erfolgt mit Bus oder S-Bahn bis zur Ha
 ltestelle Neckarpark\, von wo ein Spaziergang zum Festgelände führt.\n\n
 \n
CATEGORIES:Zoller-Gau
END:VEVENT
BEGIN:VTIMEZONE
TZID:Europe/Berlin
X-LIC-LOCATION:Europe/Berlin
BEGIN:DAYLIGHT
DTSTART:20260329T030000
TZOFFSETFROM:+0100
TZOFFSETTO:+0200
TZNAME:CEST
END:DAYLIGHT
END:VTIMEZONE
END:VCALENDAR